Package: PureCN Version: 2.14.1 Command: /home/biocbuild/R/R/bin/R CMD INSTALL PureCN StartedAt: 2025-10-13 20:59:22 -0000 (Mon, 13 Oct 2025) EndedAt: 2025-10-13 21:00:34 -0000 (Mon, 13 Oct 2025) EllapsedTime: 72.0 seconds RetCode: 0 Status: OK