Package: PureCN Version: 2.14.1 Command: /home/biocbuild/R/R/bin/R CMD build --keep-empty-dirs --no-resave-data PureCN StartedAt: 2025-10-14 03:43:15 -0000 (Tue, 14 Oct 2025) EndedAt: 2025-10-14 03:49:40 -0000 (Tue, 14 Oct 2025) EllapsedTime: 385.1 seconds RetCode: 0 Status: OK PackageFile: PureCN_2.14.1.tar.gz PackageFileSize: 5.773 MiB