Package: PureCN Version: 2.16.0 Command: /Library/Frameworks/R.framework/Resources/bin/R CMD INSTALL PureCN StartedAt: 2025-11-10 15:23:49 -0500 (Mon, 10 Nov 2025) EndedAt: 2025-11-10 15:24:09 -0500 (Mon, 10 Nov 2025) EllapsedTime: 20.3 seconds RetCode: 0 Status: OK