Package: PureCN Version: 2.16.0 Command: /Library/Frameworks/R.framework/Resources/bin/R CMD build --keep-empty-dirs --no-resave-data PureCN StartedAt: 2025-11-10 17:25:07 -0500 (Mon, 10 Nov 2025) EndedAt: 2025-11-10 17:26:44 -0500 (Mon, 10 Nov 2025) EllapsedTime: 97.1 seconds RetCode: 0 Status: OK PackageFile: PureCN_2.16.0.tar.gz PackageFileSize: 5.722 MiB