Package: PureCN Version: 2.16.0 Command: rm -rf PureCN.buildbin-libdir && mkdir PureCN.buildbin-libdir && /Users/biocbuild/BBS/utils/build-universal.sh PureCN_2.16.0.tar.gz /Library/Frameworks/R.framework/Resources/bin/R PureCN.buildbin-libdir StartedAt: 2025-11-10 23:31:59 -0500 (Mon, 10 Nov 2025) EndedAt: 2025-11-10 23:32:21 -0500 (Mon, 10 Nov 2025) EllapsedTime: 22.4 seconds RetCode: 0 Status: OK PackageFile: PureCN_2.16.0.tgz PackageFileSize: 6.188 MiB