| Back to Multiple platform build/check report for BioC 3.22: simplified long |
|
This page was generated on 2025-11-12 11:58 -0500 (Wed, 12 Nov 2025).
| Hostname | OS | Arch (*) | R version | Installed pkgs |
|---|---|---|---|---|
| nebbiolo2 | Linux (Ubuntu 24.04.3 LTS) | x86_64 | 4.5.1 Patched (2025-08-23 r88802) -- "Great Square Root" | 4902 |
| taishan | Linux (openEuler 24.03 LTS) | aarch64 | 4.5.0 (2025-04-11) -- "How About a Twenty-Six" | 4668 |
| Click on any hostname to see more info about the system (e.g. compilers) (*) as reported by 'uname -p', except on Windows and Mac OS X | ||||
| Package 1659/2361 | Hostname | OS / Arch | INSTALL | BUILD | CHECK | BUILD BIN | ||||||||
| ProteoMM 1.28.0 (landing page) Yuliya V Karpievitch
| nebbiolo2 | Linux (Ubuntu 24.04.3 LTS) / x86_64 | OK | OK | OK | |||||||||
| taishan | Linux (openEuler 24.03 LTS) / aarch64 | OK | OK | OK | ||||||||||
|
To the developers/maintainers of the ProteoMM package: - Allow up to 24 hours (and sometimes 48 hours) for your latest push to git@git.bioconductor.org:packages/ProteoMM.git to reflect on this report. See Troubleshooting Build Report for more information. - Use the following Renviron settings to reproduce errors and warnings. - If 'R CMD check' started to fail recently on the Linux builder(s) over a missing dependency, add the missing dependency to 'Suggests:' in your DESCRIPTION file. See Renviron.bioc for more information. - See Martin Grigorov's blog post for how to debug Linux ARM64 related issues on a x86_64 host. |
| Package: ProteoMM |
| Version: 1.28.0 |
| Command: /home/biocbuild/R/R/bin/R CMD check --install=check:ProteoMM.install-out.txt --library=/home/biocbuild/R/R/site-library --no-vignettes --timings ProteoMM_1.28.0.tar.gz |
| StartedAt: 2025-11-11 13:25:34 -0000 (Tue, 11 Nov 2025) |
| EndedAt: 2025-11-11 13:28:29 -0000 (Tue, 11 Nov 2025) |
| EllapsedTime: 174.4 seconds |
| RetCode: 0 |
| Status: OK |
| CheckDir: ProteoMM.Rcheck |
| Warnings: 0 |
##############################################################################
##############################################################################
###
### Running command:
###
### /home/biocbuild/R/R/bin/R CMD check --install=check:ProteoMM.install-out.txt --library=/home/biocbuild/R/R/site-library --no-vignettes --timings ProteoMM_1.28.0.tar.gz
###
##############################################################################
##############################################################################
* using log directory ‘/home/biocbuild/bbs-3.22-bioc/meat/ProteoMM.Rcheck’
* using R version 4.5.0 (2025-04-11)
* using platform: aarch64-unknown-linux-gnu
* R was compiled by
aarch64-unknown-linux-gnu-gcc (GCC) 14.2.0
GNU Fortran (GCC) 14.2.0
* running under: openEuler 24.03 (LTS)
* using session charset: UTF-8
* using option ‘--no-vignettes’
* checking for file ‘ProteoMM/DESCRIPTION’ ... OK
* this is package ‘ProteoMM’ version ‘1.28.0’
* package encoding: UTF-8
* checking package namespace information ... OK
* checking package dependencies ... OK
* checking if this is a source package ... OK
* checking if there is a namespace ... OK
* checking for hidden files and directories ... OK
* checking for portable file names ... OK
* checking for sufficient/correct file permissions ... OK
* checking whether package ‘ProteoMM’ can be installed ... OK
* checking installed package size ... OK
* checking package directory ... OK
* checking ‘build’ directory ... OK
* checking DESCRIPTION meta-information ... NOTE
License components which are templates and need '+ file LICENSE':
MIT
* checking top-level files ... OK
* checking for left-over files ... OK
* checking index information ... OK
* checking package subdirectories ... OK
* checking code files for non-ASCII characters ... OK
* checking R files for syntax errors ... OK
* checking whether the package can be loaded ... OK
* checking whether the package can be loaded with stated dependencies ... OK
* checking whether the package can be unloaded cleanly ... OK
* checking whether the namespace can be loaded with stated dependencies ... OK
* checking whether the namespace can be unloaded cleanly ... OK
* checking loading without being on the library search path ... OK
* checking dependencies in R code ... OK
* checking S3 generic/method consistency ... OK
* checking replacement functions ... OK
* checking foreign function calls ... OK
* checking R code for possible problems ... OK
* checking Rd files ... OK
* checking Rd metadata ... OK
* checking Rd cross-references ... OK
* checking for missing documentation entries ... OK
* checking for code/documentation mismatches ... OK
* checking Rd \usage sections ... OK
* checking Rd contents ... OK
* checking for unstated dependencies in examples ... OK
* checking contents of ‘data’ directory ... OK
* checking data for non-ASCII characters ... OK
* checking LazyData ... OK
* checking data for ASCII and uncompressed saves ... OK
* checking files in ‘vignettes’ ... OK
* checking examples ... OK
Examples with CPU (user + system) or elapsed time > 5s
user system elapsed
prot_level_multi_part 28.516 0.080 31.033
prot_level_multiMat_PresAbs 9.528 0.056 9.768
subset_proteins 9.393 0.016 10.075
peptideLevel_PresAbsDE 7.628 0.008 8.986
get_presAbs_prots 7.603 0.028 8.840
plot_volcano_wLab 6.523 0.027 7.378
plot_volcano 5.956 0.012 6.031
peptideLevel_DE 5.884 0.048 6.352
MBimpute 5.762 0.039 5.984
eig_norm1 4.596 0.016 5.360
eig_norm2 4.525 0.024 5.379
* checking for unstated dependencies in vignettes ... OK
* checking package vignettes ... OK
* checking running R code from vignettes ... SKIPPED
* checking re-building of vignette outputs ... SKIPPED
* checking PDF version of manual ... OK
* DONE
Status: 1 NOTE
See
‘/home/biocbuild/bbs-3.22-bioc/meat/ProteoMM.Rcheck/00check.log’
for details.
ProteoMM.Rcheck/00install.out
############################################################################## ############################################################################## ### ### Running command: ### ### /home/biocbuild/R/R/bin/R CMD INSTALL ProteoMM ### ############################################################################## ############################################################################## * installing to library ‘/home/biocbuild/R/R-4.5.0/site-library’ * installing *source* package ‘ProteoMM’ ... ** this is package ‘ProteoMM’ version ‘1.28.0’ ** using staged installation ** R ** data *** moving datasets to lazyload DB ** byte-compile and prepare package for lazy loading ** help *** installing help indices ** building package indices ** installing vignettes ** testing if installed package can be loaded from temporary location ** testing if installed package can be loaded from final location ** testing if installed package keeps a record of temporary installation path * DONE (ProteoMM)
ProteoMM.Rcheck/ProteoMM-Ex.timings
| name | user | system | elapsed | |
| MBimpute | 5.762 | 0.039 | 5.984 | |
| convert_log2 | 0.008 | 0.000 | 0.015 | |
| eig_norm1 | 4.596 | 0.016 | 5.360 | |
| eig_norm2 | 4.525 | 0.024 | 5.379 | |
| eigen_pi | 0.022 | 0.000 | 0.022 | |
| g.test | 0.005 | 0.000 | 0.004 | |
| get_presAbs_prots | 7.603 | 0.028 | 8.840 | |
| makeLMFormula | 0.001 | 0.000 | 0.001 | |
| make_intencities | 0.006 | 0.000 | 0.006 | |
| make_meta | 0.005 | 0.000 | 0.006 | |
| peptideLevel_DE | 5.884 | 0.048 | 6.352 | |
| peptideLevel_PresAbsDE | 7.628 | 0.008 | 8.986 | |
| plot_3_pep_trends_NOfile | 4.082 | 0.036 | 4.275 | |
| plot_volcano | 5.956 | 0.012 | 6.031 | |
| plot_volcano_wLab | 6.523 | 0.027 | 7.378 | |
| prot_level_multiMat_PresAbs | 9.528 | 0.056 | 9.768 | |
| prot_level_multi_part | 28.516 | 0.080 | 31.033 | |
| subset_proteins | 9.393 | 0.016 | 10.075 | |