Package: ProteoMM Version: 1.28.0 Command: /home/biocbuild/bbs-3.22-bioc/R/bin/R CMD INSTALL ProteoMM StartedAt: 2025-11-11 15:30:29 -0500 (Tue, 11 Nov 2025) EndedAt: 2025-11-11 15:30:35 -0500 (Tue, 11 Nov 2025) EllapsedTime: 6.1 seconds RetCode: 0 Status: OK