Package: ProteoMM Version: 1.28.0 Command: /home/biocbuild/bbs-3.22-bioc/R/bin/R CMD build --keep-empty-dirs --no-resave-data --md5 ProteoMM StartedAt: 2025-11-11 19:31:10 -0500 (Tue, 11 Nov 2025) EndedAt: 2025-11-11 19:31:43 -0500 (Tue, 11 Nov 2025) EllapsedTime: 33.0 seconds RetCode: 0 Status: OK PackageFile: ProteoMM_1.28.0.tar.gz PackageFileSize: 476.9 KiB