Package: ProteoMM Version: 1.28.0 Command: /Library/Frameworks/R.framework/Resources/bin/R CMD INSTALL ProteoMM StartedAt: 2025-11-10 15:09:11 -0500 (Mon, 10 Nov 2025) EndedAt: 2025-11-10 15:09:14 -0500 (Mon, 10 Nov 2025) EllapsedTime: 3.1 seconds RetCode: 0 Status: OK