Package: ProteoDisco Version: 1.16.0 Command: /home/biocbuild/bbs-3.22-bioc/R/bin/R CMD build --keep-empty-dirs --no-resave-data --md5 ProteoDisco StartedAt: 2025-11-11 19:31:03 -0500 (Tue, 11 Nov 2025) EndedAt: 2025-11-11 19:34:07 -0500 (Tue, 11 Nov 2025) EllapsedTime: 183.2 seconds RetCode: 0 Status: OK PackageFile: ProteoDisco_1.16.0.tar.gz PackageFileSize: 514.8 KiB