Package: ProtGenerics Version: 1.42.0 Command: /home/biocbuild/R/R/bin/R CMD INSTALL ProtGenerics StartedAt: 2025-11-13 21:03:16 -0000 (Thu, 13 Nov 2025) EndedAt: 2025-11-13 21:03:43 -0000 (Thu, 13 Nov 2025) EllapsedTime: 27.4 seconds RetCode: 0 Status: OK