Package: ProtGenerics Version: 1.42.0 Command: /home/biocbuild/bbs-3.22-bioc/R/bin/R CMD INSTALL ProtGenerics StartedAt: 2025-11-13 15:02:54 -0500 (Thu, 13 Nov 2025) EndedAt: 2025-11-13 15:03:07 -0500 (Thu, 13 Nov 2025) EllapsedTime: 12.6 seconds RetCode: 0 Status: OK