Package: ProtGenerics Version: 1.42.0 Command: /home/biocbuild/bbs-3.22-bioc/R/bin/R CMD build --keep-empty-dirs --no-resave-data --md5 ProtGenerics StartedAt: 2025-11-14 19:31:39 -0500 (Fri, 14 Nov 2025) EndedAt: 2025-11-14 19:31:40 -0500 (Fri, 14 Nov 2025) EllapsedTime: 1.0 seconds RetCode: 0 Status: OK PackageFile: ProtGenerics_1.42.0.tar.gz PackageFileSize: 11.51 KiB