Package: ProtGenerics Version: 1.40.0 Command: /home/biocbuild/bbs-3.21-bioc/R/bin/R CMD INSTALL ProtGenerics StartedAt: 2025-09-28 15:17:36 -0400 (Sun, 28 Sep 2025) EndedAt: 2025-09-28 15:17:50 -0400 (Sun, 28 Sep 2025) EllapsedTime: 14.0 seconds RetCode: 0 Status: OK