Package: ProtGenerics Version: 1.40.0 Command: /Library/Frameworks/R.framework/Resources/bin/R CMD build --keep-empty-dirs --no-resave-data ProtGenerics StartedAt: 2025-10-06 21:40:41 -0400 (Mon, 06 Oct 2025) EndedAt: 2025-10-06 21:40:43 -0400 (Mon, 06 Oct 2025) EllapsedTime: 2.1 seconds RetCode: 0 Status: OK PackageFile: ProtGenerics_1.40.0.tar.gz PackageFileSize: 10.89 KiB