Package: ProtGenerics Version: 1.40.0 Command: rm -rf ProtGenerics.buildbin-libdir && mkdir ProtGenerics.buildbin-libdir && /Users/biocbuild/BBS/utils/build-universal.sh ProtGenerics_1.40.0.tar.gz /Library/Frameworks/R.framework/Resources/bin/R ProtGenerics.buildbin-libdir StartedAt: 2025-04-21 22:47:08 -0400 (Mon, 21 Apr 2025) EndedAt: 2025-04-21 22:47:10 -0400 (Mon, 21 Apr 2025) EllapsedTime: 2.1 seconds RetCode: 0 Status: OK PackageFile: ProtGenerics_1.40.0.tgz PackageFileSize: 247.3 KiB