Package: ProtGenerics Version: 1.40.0 Command: /Library/Frameworks/R.framework/Resources/bin/R CMD build --keep-empty-dirs --no-resave-data ProtGenerics StartedAt: 2025-09-26 06:48:20 -0400 (Fri, 26 Sep 2025) EndedAt: 2025-09-26 06:48:21 -0400 (Fri, 26 Sep 2025) EllapsedTime: 1.2 seconds RetCode: 0 Status: OK PackageFile: ProtGenerics_1.40.0.tar.gz PackageFileSize: 10.89 KiB