Package: ProtGenerics Version: 1.40.0 Maintainer: Laurent Gatto MaintainerEmail: laurent.gatto at uclouvain.be git_url: https://git.bioconductor.org/packages/ProtGenerics git_branch: RELEASE_3_21 git_last_commit: 048a08d git_last_commit_date: 2025-04-15 10:38:08 -0400 (Tue, 15 Apr 2025)