Package: Prostar Version: 1.42.0 Command: /home/biocbuild/bbs-3.22-bioc/R/bin/R CMD INSTALL Prostar StartedAt: 2025-11-11 15:42:30 -0500 (Tue, 11 Nov 2025) EndedAt: 2025-11-11 15:43:09 -0500 (Tue, 11 Nov 2025) EllapsedTime: 38.9 seconds RetCode: 0 Status: OK