Package: Prostar Version: 1.42.0 Command: /home/biocbuild/bbs-3.22-bioc/R/bin/R CMD check --install=check:Prostar.install-out.txt --library=/home/biocbuild/bbs-3.22-bioc/R/site-library --timings Prostar_1.42.0.tar.gz StartedAt: 2025-11-15 03:13:45 -0500 (Sat, 15 Nov 2025) EndedAt: 2025-11-15 03:18:11 -0500 (Sat, 15 Nov 2025) EllapsedTime: 266.3 seconds RetCode: 0 Status: WARNINGS CheckDir: Prostar.Rcheck Warnings: 1