Package: Prostar Version: 1.42.0 Command: /home/biocbuild/bbs-3.22-bioc/R/bin/R CMD build --keep-empty-dirs --no-resave-data --md5 Prostar StartedAt: 2025-11-11 19:30:35 -0500 (Tue, 11 Nov 2025) EndedAt: 2025-11-11 19:31:17 -0500 (Tue, 11 Nov 2025) EllapsedTime: 42.0 seconds RetCode: 0 Status: OK PackageFile: Prostar_1.42.0.tar.gz PackageFileSize: 4.208 MiB