Package: Prostar Version: 1.42.0 Command: /Library/Frameworks/R.framework/Resources/bin/R CMD INSTALL Prostar StartedAt: 2025-11-03 15:32:31 -0500 (Mon, 03 Nov 2025) EndedAt: 2025-11-03 15:33:23 -0500 (Mon, 03 Nov 2025) EllapsedTime: 51.9 seconds RetCode: 0 Status: OK