Package: Prostar Version: 1.42.0 Command: /Library/Frameworks/R.framework/Resources/bin/R CMD build --keep-empty-dirs --no-resave-data Prostar StartedAt: 2025-11-02 18:21:29 -0500 (Sun, 02 Nov 2025) EndedAt: 2025-11-02 18:22:16 -0500 (Sun, 02 Nov 2025) EllapsedTime: 46.8 seconds RetCode: 0 Status: OK PackageFile: Prostar_1.42.0.tar.gz PackageFileSize: 4.201 MiB