Package: Prostar Version: 1.40.0 Command: /home/biocbuild/R/R/bin/R CMD build --keep-empty-dirs --no-resave-data Prostar StartedAt: 2025-10-07 03:42:32 -0000 (Tue, 07 Oct 2025) EndedAt: 2025-10-07 03:43:32 -0000 (Tue, 07 Oct 2025) EllapsedTime: 60.0 seconds RetCode: 0 Status: OK PackageFile: Prostar_1.40.0.tar.gz PackageFileSize: 4.225 MiB