Package: PrInCE Version: 1.26.0 Command: /home/biocbuild/bbs-3.22-bioc/R/bin/R CMD build --keep-empty-dirs --no-resave-data --md5 PrInCE StartedAt: 2025-11-11 19:28:31 -0500 (Tue, 11 Nov 2025) EndedAt: 2025-11-11 19:31:03 -0500 (Tue, 11 Nov 2025) EllapsedTime: 152.1 seconds RetCode: 0 Status: OK PackageFile: PrInCE_1.26.0.tar.gz PackageFileSize: 1.864 MiB