Package: PrInCE Version: 1.24.0 Command: /home/biocbuild/bbs-3.21-bioc/R/bin/R CMD build --keep-empty-dirs --no-resave-data PrInCE StartedAt: 2025-10-15 19:12:43 -0400 (Wed, 15 Oct 2025) EndedAt: 2025-10-15 19:15:18 -0400 (Wed, 15 Oct 2025) EllapsedTime: 155.1 seconds RetCode: 0 Status: OK PackageFile: PrInCE_1.24.0.tar.gz PackageFileSize: 1.861 MiB