Package: PrInCE Version: 1.24.0 Command: /home/biocbuild/R/R/bin/R CMD INSTALL PrInCE StartedAt: 2025-10-02 20:59:12 -0000 (Thu, 02 Oct 2025) EndedAt: 2025-10-02 21:00:29 -0000 (Thu, 02 Oct 2025) EllapsedTime: 77.2 seconds RetCode: 0 Status: OK