Package: PrInCE Version: 1.24.0 Command: /home/biocbuild/R/R/bin/R CMD build --keep-empty-dirs --no-resave-data PrInCE StartedAt: 2025-10-03 03:36:40 -0000 (Fri, 03 Oct 2025) EndedAt: 2025-10-03 03:40:35 -0000 (Fri, 03 Oct 2025) EllapsedTime: 234.1 seconds RetCode: 0 Status: OK PackageFile: PrInCE_1.24.0.tar.gz PackageFileSize: 1.884 MiB