Package: PrInCE Version: 1.24.0 Command: /Library/Frameworks/R.framework/Resources/bin/R CMD build --keep-empty-dirs --no-resave-data PrInCE StartedAt: 2025-10-14 06:51:23 -0400 (Tue, 14 Oct 2025) EndedAt: 2025-10-14 06:54:44 -0400 (Tue, 14 Oct 2025) EllapsedTime: 200.8 seconds RetCode: 0 Status: OK PackageFile: PrInCE_1.24.0.tar.gz PackageFileSize: 1.82 MiB