Package: PrInCE Version: 1.26.0 Maintainer: Michael Skinnider MaintainerEmail: michael.skinnider at msl.ubc.ca git_url: https://git.bioconductor.org/packages/PrInCE git_branch: RELEASE_3_22 git_last_commit: 9307f0b git_last_commit_date: 2025-10-29 10:50:32 -0400 (Wed, 29 Oct 2025)