Package: Polytect Version: 1.2.0 Command: /home/biocbuild/bbs-3.22-bioc/R/bin/R CMD build --keep-empty-dirs --no-resave-data --md5 Polytect StartedAt: 2025-11-11 19:27:03 -0500 (Tue, 11 Nov 2025) EndedAt: 2025-11-11 19:28:23 -0500 (Tue, 11 Nov 2025) EllapsedTime: 80.1 seconds RetCode: 0 Status: OK PackageFile: Polytect_1.2.0.tar.gz PackageFileSize: 2.2 MiB