Package: Polytect Version: 1.2.0 Command: /Library/Frameworks/R.framework/Resources/bin/R CMD build --keep-empty-dirs --no-resave-data Polytect StartedAt: 2025-11-03 18:16:35 -0500 (Mon, 03 Nov 2025) EndedAt: 2025-11-03 18:17:58 -0500 (Mon, 03 Nov 2025) EllapsedTime: 83.3 seconds RetCode: 0 Status: OK PackageFile: Polytect_1.2.0.tar.gz PackageFileSize: 2.126 MiB