Package: Polytect Version: 1.2.0 Command: rm -rf Polytect.buildbin-libdir && mkdir Polytect.buildbin-libdir && /Users/biocbuild/BBS/utils/build-universal.sh Polytect_1.2.0.tar.gz /Library/Frameworks/R.framework/Resources/bin/R Polytect.buildbin-libdir StartedAt: 2025-11-04 01:56:18 -0500 (Tue, 04 Nov 2025) EndedAt: 2025-11-04 01:56:35 -0500 (Tue, 04 Nov 2025) EllapsedTime: 16.2 seconds RetCode: 0 Status: OK PackageFile: Polytect_1.2.0.tgz PackageFileSize: 2.205 MiB