Package: Polytect Version: 1.0.0 Command: /home/biocbuild/R/R/bin/R CMD INSTALL Polytect StartedAt: 2025-10-13 20:21:52 -0000 (Mon, 13 Oct 2025) EndedAt: 2025-10-13 20:22:15 -0000 (Mon, 13 Oct 2025) EllapsedTime: 22.5 seconds RetCode: 0 Status: OK