Package: Polytect Version: 1.0.0 Command: /home/biocbuild/R/R/bin/R CMD build --keep-empty-dirs --no-resave-data Polytect StartedAt: 2025-10-14 03:35:47 -0000 (Tue, 14 Oct 2025) EndedAt: 2025-10-14 03:37:44 -0000 (Tue, 14 Oct 2025) EllapsedTime: 117.0 seconds RetCode: 0 Status: OK PackageFile: Polytect_1.0.0.tar.gz PackageFileSize: 2.195 MiB