Package: Polytect Version: 1.0.0 Command: /Library/Frameworks/R.framework/Resources/bin/R CMD build --keep-empty-dirs --no-resave-data Polytect StartedAt: 2025-04-21 17:17:43 -0400 (Mon, 21 Apr 2025) EndedAt: 2025-04-21 17:18:12 -0400 (Mon, 21 Apr 2025) EllapsedTime: 29.4 seconds RetCode: 0 Status: OK PackageFile: Polytect_1.0.0.tar.gz PackageFileSize: 2.157 MiB