Package: Polytect Version: 1.2.0 Command: /Library/Frameworks/R.framework/Resources/bin/R CMD INSTALL Polytect StartedAt: 2025-11-20 16:17:43 -0500 (Thu, 20 Nov 2025) EndedAt: 2025-11-20 16:17:55 -0500 (Thu, 20 Nov 2025) EllapsedTime: 12.3 seconds RetCode: 0 Status: OK