Package: Polytect Version: 1.2.0 Command: /Library/Frameworks/R.framework/Resources/bin/R CMD build --keep-empty-dirs --no-resave-data Polytect StartedAt: 2025-11-21 07:25:02 -0500 (Fri, 21 Nov 2025) EndedAt: 2025-11-21 07:26:31 -0500 (Fri, 21 Nov 2025) EllapsedTime: 89.2 seconds RetCode: 0 Status: OK PackageFile: Polytect_1.2.0.tar.gz PackageFileSize: 2.157 MiB