Package: PolySTest Version: 1.4.0 Command: /home/biocbuild/R/R/bin/R CMD INSTALL PolySTest StartedAt: 2025-11-13 21:25:38 -0000 (Thu, 13 Nov 2025) EndedAt: 2025-11-13 21:26:13 -0000 (Thu, 13 Nov 2025) EllapsedTime: 35.1 seconds RetCode: 0 Status: OK