Package: PolySTest Version: 1.4.0 Command: /home/biocbuild/R/R/bin/R CMD build --keep-empty-dirs --no-resave-data PolySTest StartedAt: 2025-11-14 04:13:31 -0000 (Fri, 14 Nov 2025) EndedAt: 2025-11-14 04:15:58 -0000 (Fri, 14 Nov 2025) EllapsedTime: 147.0 seconds RetCode: 0 Status: OK PackageFile: PolySTest_1.4.0.tar.gz PackageFileSize: 2.466 MiB