Package: PolySTest Version: 1.2.0 Command: /home/biocbuild/bbs-3.21-bioc/R/bin/R CMD INSTALL PolySTest StartedAt: 2025-10-05 15:17:55 -0400 (Sun, 05 Oct 2025) EndedAt: 2025-10-05 15:18:22 -0400 (Sun, 05 Oct 2025) EllapsedTime: 26.4 seconds RetCode: 0 Status: OK