Package: PolySTest Version: 1.2.0 Command: /home/biocbuild/bbs-3.21-bioc/R/bin/R CMD build --keep-empty-dirs --no-resave-data PolySTest StartedAt: 2025-10-05 19:12:08 -0400 (Sun, 05 Oct 2025) EndedAt: 2025-10-05 19:13:55 -0400 (Sun, 05 Oct 2025) EllapsedTime: 107.1 seconds RetCode: 0 Status: OK PackageFile: PolySTest_1.2.0.tar.gz PackageFileSize: 2.111 MiB