Package: PolySTest Version: 1.2.0 Command: /Library/Frameworks/R.framework/Resources/bin/R CMD INSTALL PolySTest StartedAt: 2025-10-13 15:33:48 -0400 (Mon, 13 Oct 2025) EndedAt: 2025-10-13 15:34:46 -0400 (Mon, 13 Oct 2025) EllapsedTime: 58.5 seconds RetCode: 0 Status: OK