Package: PolySTest Version: 1.2.0 Command: /Library/Frameworks/R.framework/Resources/bin/R CMD build --keep-empty-dirs --no-resave-data PolySTest StartedAt: 2025-10-13 21:36:51 -0400 (Mon, 13 Oct 2025) EndedAt: 2025-10-13 21:41:00 -0400 (Mon, 13 Oct 2025) EllapsedTime: 248.5 seconds RetCode: 0 Status: OK PackageFile: PolySTest_1.2.0.tar.gz PackageFileSize: 2.158 MiB