Package: PolySTest Version: 1.2.0 Command: rm -rf PolySTest.buildbin-libdir && mkdir PolySTest.buildbin-libdir && /Users/biocbuild/BBS/utils/build-universal.sh PolySTest_1.2.0.tar.gz /Library/Frameworks/R.framework/Resources/bin/R PolySTest.buildbin-libdir StartedAt: 2025-10-14 14:24:11 -0400 (Tue, 14 Oct 2025) EndedAt: 2025-10-14 14:25:29 -0400 (Tue, 14 Oct 2025) EllapsedTime: 77.9 seconds RetCode: 0 Status: OK PackageFile: PolySTest_1.2.0.tgz PackageFileSize: 2.27 MiB