Package: PolySTest Version: 1.2.0 Command: /Library/Frameworks/R.framework/Resources/bin/R CMD INSTALL PolySTest StartedAt: 2025-04-21 15:17:45 -0400 (Mon, 21 Apr 2025) EndedAt: 2025-04-21 15:18:21 -0400 (Mon, 21 Apr 2025) EllapsedTime: 36.1 seconds RetCode: 0 Status: OK