Package: PolySTest Version: 1.2.0 Command: /home/biocbuild/R/R/bin/R CMD INSTALL PolySTest StartedAt: 2025-09-25 20:32:08 -0000 (Thu, 25 Sep 2025) EndedAt: 2025-09-25 20:32:45 -0000 (Thu, 25 Sep 2025) EllapsedTime: 37.1 seconds RetCode: 0 Status: OK