Package: PolySTest Version: 1.2.0 Command: /Library/Frameworks/R.framework/Resources/bin/R CMD INSTALL PolySTest StartedAt: 2025-10-02 16:10:50 -0400 (Thu, 02 Oct 2025) EndedAt: 2025-10-02 16:11:22 -0400 (Thu, 02 Oct 2025) EllapsedTime: 32.4 seconds RetCode: 0 Status: OK