Package: PolySTest Version: 1.2.0 Command: /Library/Frameworks/R.framework/Resources/bin/R CMD build --keep-empty-dirs --no-resave-data PolySTest StartedAt: 2025-10-03 06:38:13 -0400 (Fri, 03 Oct 2025) EndedAt: 2025-10-03 06:40:27 -0400 (Fri, 03 Oct 2025) EllapsedTime: 134.4 seconds RetCode: 0 Status: OK PackageFile: PolySTest_1.2.0.tar.gz PackageFileSize: 2.164 MiB