Package: Pirat Version: 1.4.2 Command: /home/biocbuild/bbs-3.22-bioc/R/bin/R CMD INSTALL Pirat StartedAt: 2025-11-14 15:22:34 -0500 (Fri, 14 Nov 2025) EndedAt: 2025-11-14 15:22:54 -0500 (Fri, 14 Nov 2025) EllapsedTime: 19.9 seconds RetCode: 0 Status: OK